BEGIN:VCALENDAR
VERSION:2.0
PRODID:spatie/icalendar-generator
DESCRIPTION:Veranstaltungen von RSC-WERNE
X-WR-CALDESC:Veranstaltungen von RSC-WERNE
REFRESH-INTERVAL;VALUE=DURATION:PT1440M
X-PUBLISHED-TTL:PT1440M
BEGIN:VTIMEZONE
TZID:Europe/Berlin
BEGIN:STANDARD
DTSTART:20251026T030000Z
TZOFFSETFROM:+0200
TZOFFSETTO:+0100
END:STANDARD
BEGIN:DAYLIGHT
DTSTART:20260329T020000Z
TZOFFSETFROM:+0100
TZOFFSETTO:+0200
END:DAYLIGHT
END:VTIMEZONE
BEGIN:VTIMEZONE
TZID:UTC
BEGIN:STANDARD
DTSTART:20250723T171747Z
TZOFFSETFROM:+0000
TZOFFSETTO:+0000
END:STANDARD
END:VTIMEZONE
BEGIN:VEVENT
UID:215-41
DTSTAMP:20260419T171747Z
SUMMARY:WWBT 2026 - 5. LAUF - RV WITTEN 1946 e.V.
LOCATION:Witten
ORGANIZER;CN=Thomas Kimm:MAILTO:thomas.kimm@gmx.de
DTSTART;TZID=Europe/Berlin:20260201T083000
DTEND;TZID=Europe/Berlin:20260201T160000
X-ALT-DESC;FMTTYPE=TEXT/HTML:Der RV Witten ist im Jahr 2026 schon zum 9. Ma
 l Teil der WWBT … und wir freuen uns\, Euch wieder 3 tolle Strecken anbi
 eten zu können\, welche in den Norden von Witten führen und landschaftli
 ch besonders reizvoll sind. Zudem liegen eine Vielzahl touristischer Highl
 ights an der Strecke. Als Beispiele seien hier der Radweg Rheinischer&amp;hell
 ip\;
CATEGORIES:WWBT 2026
URL;VALUE=URI:https://rsc-werne.de/mc-events/wwbt-2026-5-lauf-rv-witten-194
 6-e-v/
METHOD:PUBLISH
END:VEVENT
END:VCALENDAR